View In:
ArcGIS JavaScript
ArcGIS Online Map Viewer
ArcGIS Earth
Service Description: The RasterRendering service is a multi-tenant raster rendering provider.
Name: Hosted/om202102121446062ortho
Description:
Single Fused Map Cache: false
Extent:
XMin: 629391.4297482593
YMin: 1661943.612408478
XMax: 629708.6693310603
YMax: 1662240.0692423342
Spatial Reference: 32615
(32615)
LatestVCSWkid(0)
Initial Extent:
XMin: 629391.4297482593
YMin: 1661943.612408478
XMax: 629708.6693310603
YMax: 1662240.0692423342
Spatial Reference: 32615
(32615)
LatestVCSWkid(0)
Full Extent:
XMin: 629391.4297482593
YMin: 1661943.612408478
XMax: 629708.6693310603
YMax: 1662240.0692423342
Spatial Reference: 32615
(32615)
LatestVCSWkid(0)
Pixel Size X: 0.05044356540006438
Pixel Size Y: 0.05044356540006471
Band Count: 3
Pixel Type: U8
RasterFunction Infos: {"rasterFunctionInfos": [{
"name": "None",
"description": "",
"help": ""
}]}
Mensuration Capabilities: Basic
Inspection Capabilities:
Has Histograms: true
Has Colormap: false
Has Multi Dimensions : false
Rendering Rule:
Min Scale: 0
Max Scale: 0
Copyright Text:
Service Data Type: esriImageServiceDataTypeRGB
Min Values: 0, 0, 0
Max Values: 255, 255, 255
Mean Values: 142.78183057251047, 143.84933257744, 131.8118998454682
Standard Deviation Values: 55.227482023636654, 51.72581544897336, 49.662069494884086
Object ID Field:
Fields:
None
Default Mosaic Method: Center
Allowed Mosaic Methods:
SortField:
SortValue: null
Mosaic Operator: First
Default Compression Quality: 75
Default Resampling Method: Bilinear
Max Record Count: null
Max Image Height: 4100
Max Image Width: 15000
Max Download Image Count: null
Max Mosaic Image Count: null
Allow Raster Function: true
Allow Copy: true
Allow Analysis: true
Allow Compute TiePoints: false
Supports Statistics: false
Supports Advanced Queries: false
Use StandardizedQueries: true
Raster Type Infos:
Name: Raster Dataset
Description: Supports all ArcGIS Raster Datasets
Help:
Has Raster Attribute Table: false
Edit Fields Info: null
Ownership Based AccessControl For Rasters: null
Child Resources:
Info
Histograms
Statistics
Key Properties
Legend
Raster Function Infos
Supported Operations:
Export Image
Identify
Compute Histograms
Compute Statistics Histograms
Get Samples
Compute Class Statistics
Query Boundary
Compute Pixel Location
Compute Angles
Validate
Project